BEGIN:VCALENDAR
VERSION:2.0
PRODID:-//Oberdeck Chemnitz - ECPv6.15.20//NONSGML v1.0//EN
CALSCALE:GREGORIAN
METHOD:PUBLISH
X-ORIGINAL-URL:https://oberdeck.events
X-WR-CALDESC:Veranstaltungen für Oberdeck Chemnitz
REFRESH-INTERVAL;VALUE=DURATION:PT1H
X-Robots-Tag:noindex
X-PUBLISHED-TTL:PT1H
BEGIN:VTIMEZONE
TZID:Europe/Berlin
BEGIN:DAYLIGHT
TZOFFSETFROM:+0100
TZOFFSETTO:+0200
TZNAME:CEST
DTSTART:20250330T010000
END:DAYLIGHT
BEGIN:STANDARD
TZOFFSETFROM:+0200
TZOFFSETTO:+0100
TZNAME:CET
DTSTART:20251026T010000
END:STANDARD
BEGIN:DAYLIGHT
TZOFFSETFROM:+0100
TZOFFSETTO:+0200
TZNAME:CEST
DTSTART:20260329T010000
END:DAYLIGHT
BEGIN:STANDARD
TZOFFSETFROM:+0200
TZOFFSETTO:+0100
TZNAME:CET
DTSTART:20261025T010000
END:STANDARD
BEGIN:DAYLIGHT
TZOFFSETFROM:+0100
TZOFFSETTO:+0200
TZNAME:CEST
DTSTART:20270328T010000
END:DAYLIGHT
BEGIN:STANDARD
TZOFFSETFROM:+0200
TZOFFSETTO:+0100
TZNAME:CET
DTSTART:20271031T010000
END:STANDARD
END:VTIMEZONE
BEGIN:VEVENT
DTSTART;TZID=Europe/Berlin:20260329T160000
DTEND;TZID=Europe/Berlin:20260329T220000
DTSTAMP:20260421T205943
CREATED:20260302T132052Z
LAST-MODIFIED:20260317T122640Z
UID:1761-1774800000-1774821600@oberdeck.events
SUMMARY:Rooftop Beats @ODC-Oberdeck
DESCRIPTION:Im Osten tanzt man über den Dächern.\nROOFTOP BEATS steht für Day-Partys mit Panorama !\nGrooviger House Sound über den Dächern der Stadt. \nLive-DJs\, besondere Locations und eine Atmosphäre\, die in Erinnerung bleibt. \nGetanzt wird von 16–22 Uhr – entspannt feiern und am nächsten Tag trotzdem fit sein.  \nDer Zugang ist ab 21 Jahren. Die Tickets sind streng limitiert. \nEintritt:\n20€ – Frühbucher\n25€ – Regulär\n30€ – Spätbucher \nTickets
URL:https://oberdeck.events/event/rooftop-beats-odc-oberdeck/
LOCATION:ODC-Oberdeck\, Walkgraben 13\, Chemnitz
CATEGORIES:Party
ATTACH;FMTTYPE=image/jpeg:https://oberdeck.events/wp-content/uploads/2026/03/holder-1080.jpg
ORGANIZER;CN="ODC":MAILTO:odc-booking@fritzculinar.de
END:VEVENT
END:VCALENDAR