BEGIN:VCALENDAR
VERSION:2.0
PRODID:-//Oberdeck Chemnitz - ECPv6.15.20//NONSGML v1.0//EN
CALSCALE:GREGORIAN
METHOD:PUBLISH
X-ORIGINAL-URL:https://oberdeck.events
X-WR-CALDESC:Veranstaltungen für Oberdeck Chemnitz
REFRESH-INTERVAL;VALUE=DURATION:PT1H
X-Robots-Tag:noindex
X-PUBLISHED-TTL:PT1H
BEGIN:VTIMEZONE
TZID:Europe/Berlin
BEGIN:DAYLIGHT
TZOFFSETFROM:+0100
TZOFFSETTO:+0200
TZNAME:CEST
DTSTART:20230326T010000
END:DAYLIGHT
BEGIN:STANDARD
TZOFFSETFROM:+0200
TZOFFSETTO:+0100
TZNAME:CET
DTSTART:20231029T010000
END:STANDARD
BEGIN:DAYLIGHT
TZOFFSETFROM:+0100
TZOFFSETTO:+0200
TZNAME:CEST
DTSTART:20240331T010000
END:DAYLIGHT
BEGIN:STANDARD
TZOFFSETFROM:+0200
TZOFFSETTO:+0100
TZNAME:CET
DTSTART:20241027T010000
END:STANDARD
BEGIN:DAYLIGHT
TZOFFSETFROM:+0100
TZOFFSETTO:+0200
TZNAME:CEST
DTSTART:20250330T010000
END:DAYLIGHT
BEGIN:STANDARD
TZOFFSETFROM:+0200
TZOFFSETTO:+0100
TZNAME:CET
DTSTART:20251026T010000
END:STANDARD
END:VTIMEZONE
BEGIN:VEVENT
DTSTART;TZID=Europe/Berlin:20240306T180000
DTEND;TZID=Europe/Berlin:20240306T193000
DTSTAMP:20260421T150532
CREATED:20240223T123920Z
LAST-MODIFIED:20240223T124003Z
UID:867-1709748000-1709753400@oberdeck.events
SUMMARY:Freie Presse Podiumsdiskussion : "Wie gut kann Chemnitz Kulturhauptstadt?"
DESCRIPTION:Noch elf Monate\, dann feiert sich Chemnitz als Kulturhauptstadt Europas. 2025 wird Begegnung und Bewegung in die Stadt bringen. Ein Jahr lang steht Chemnitz ganz besonders im Fokus der deutschen und europäischen Öffentlichkeit. Ein Jahr lang werden viel\, viel mehr Gäste den Weg in die Stadt finden als üblich. Ein Jahr lang haben die Menschen hier die Chance\, aus der Kulturhauptstadt 2025 für sich etwas Bleibendes zu machen. \nIst Chemnitz fit dafür? Ziehen alle an einem Strang? Was kann und muss der Oberbürgermeister noch tun? Wie können sich die Chemnitzerinnen und Chemnitzer einbringen? Darüber sprechen „Freie Presse“-Chefredakteur Torsten Kleditzsch und Lokalchefin Susanne Kiwitter. Im Rahmen der Veranstaltung wird es für Teilnehmerinnen und Teilnehmer die Möglichkeit geben\, mit dem Oberbürgermeister direkt zu diskutieren. \nAufgrund der begrenzten Platzkapazität bitten wir um vorherige Anmeldung über den folgenden Link oder telefonisch unter +49 371 278 550117.
URL:https://oberdeck.events/event/podiumsdiskussion-kulturcity/
LOCATION:ODC-Oberdeck\, Walkgraben 13\, Chemnitz
CATEGORIES:Podiumsdiskussion
ATTACH;FMTTYPE=image/webp:https://oberdeck.events/wp-content/uploads/2024/02/FP-Podiumsdiskussion-6324.webp
ORGANIZER;CN="ODC-Oberdeck":MAILTO:oberdeck@fritzculinar.de
END:VEVENT
END:VCALENDAR