BEGIN:VCALENDAR
VERSION:2.0
PRODID:-//Oberdeck Chemnitz - ECPv6.15.20//NONSGML v1.0//EN
CALSCALE:GREGORIAN
METHOD:PUBLISH
X-ORIGINAL-URL:https://oberdeck.events
X-WR-CALDESC:Veranstaltungen für Oberdeck Chemnitz
REFRESH-INTERVAL;VALUE=DURATION:PT1H
X-Robots-Tag:noindex
X-PUBLISHED-TTL:PT1H
BEGIN:VTIMEZONE
TZID:Europe/Berlin
BEGIN:DAYLIGHT
TZOFFSETFROM:+0100
TZOFFSETTO:+0200
TZNAME:CEST
DTSTART:20240331T010000
END:DAYLIGHT
BEGIN:STANDARD
TZOFFSETFROM:+0200
TZOFFSETTO:+0100
TZNAME:CET
DTSTART:20241027T010000
END:STANDARD
BEGIN:DAYLIGHT
TZOFFSETFROM:+0100
TZOFFSETTO:+0200
TZNAME:CEST
DTSTART:20250330T010000
END:DAYLIGHT
BEGIN:STANDARD
TZOFFSETFROM:+0200
TZOFFSETTO:+0100
TZNAME:CET
DTSTART:20251026T010000
END:STANDARD
BEGIN:DAYLIGHT
TZOFFSETFROM:+0100
TZOFFSETTO:+0200
TZNAME:CEST
DTSTART:20260329T010000
END:DAYLIGHT
BEGIN:STANDARD
TZOFFSETFROM:+0200
TZOFFSETTO:+0100
TZNAME:CET
DTSTART:20261025T010000
END:STANDARD
END:VTIMEZONE
BEGIN:VEVENT
DTSTART;TZID=Europe/Berlin:20250823T200000
DTEND;TZID=Europe/Berlin:20250823T200000
DTSTAMP:20260423T135016
CREATED:20250813T122215Z
LAST-MODIFIED:20250813T122432Z
UID:1624-1755979200-1755979200@oberdeck.events
SUMMARY:HOUSEBAR| Hof-Open-Air
DESCRIPTION:HOUSEBAR OPEN AIR im wunderschönen Innenhof serviert dir den Groove\, der unter die Haut geht:\nsoulige Klänge\, glamouröse Disco-Vibes und Beats von damals bis heute. Ein Abend für alle\, die die Musik spüren\, tanzen und einfach loslassen wollen – Sounds direkt für die Seele und den Dancefloor.\n\n\nHOUSEBAR OPEN AIR @ ODC HOF delivers grooves that get under your skin: soulful sounds\, glamorous disco vibes\, and beats from back in the day to today. An evening for those who feel the music\, dance\, and let go – sounds crafted for the soul and the dance floor.\n\nDJs: SONNE (Sonderbar)        TONY J (Transit)        CATH BOO (Dieda\, WoT\, 365f*djs)\nopen doors: 20:00location: oberdeck odc yardsound: all shades of house music
URL:https://oberdeck.events/event/housebar-hof-open-air/
LOCATION:Hof\, Am Walkgraben 13\, Chemnitz\, 09119
CATEGORIES:Party
ATTACH;FMTTYPE=image/jpeg:https://oberdeck.events/wp-content/uploads/2025/08/IMG_0541.jpg
ORGANIZER;CN="ODC-Oberdeck":MAILTO:oberdeck@fritzculinar.de
END:VEVENT
END:VCALENDAR