BEGIN:VCALENDAR
VERSION:2.0
PRODID:-//Oberdeck Chemnitz - ECPv6.15.20//NONSGML v1.0//EN
CALSCALE:GREGORIAN
METHOD:PUBLISH
X-ORIGINAL-URL:https://oberdeck.events
X-WR-CALDESC:Veranstaltungen für Oberdeck Chemnitz
REFRESH-INTERVAL;VALUE=DURATION:PT1H
X-Robots-Tag:noindex
X-PUBLISHED-TTL:PT1H
BEGIN:VTIMEZONE
TZID:Europe/Berlin
BEGIN:DAYLIGHT
TZOFFSETFROM:+0100
TZOFFSETTO:+0200
TZNAME:CEST
DTSTART:20230326T010000
END:DAYLIGHT
BEGIN:STANDARD
TZOFFSETFROM:+0200
TZOFFSETTO:+0100
TZNAME:CET
DTSTART:20231029T010000
END:STANDARD
BEGIN:DAYLIGHT
TZOFFSETFROM:+0100
TZOFFSETTO:+0200
TZNAME:CEST
DTSTART:20240331T010000
END:DAYLIGHT
BEGIN:STANDARD
TZOFFSETFROM:+0200
TZOFFSETTO:+0100
TZNAME:CET
DTSTART:20241027T010000
END:STANDARD
BEGIN:DAYLIGHT
TZOFFSETFROM:+0100
TZOFFSETTO:+0200
TZNAME:CEST
DTSTART:20250330T010000
END:DAYLIGHT
BEGIN:STANDARD
TZOFFSETFROM:+0200
TZOFFSETTO:+0100
TZNAME:CET
DTSTART:20251026T010000
END:STANDARD
END:VTIMEZONE
BEGIN:VEVENT
DTSTART;TZID=Europe/Berlin:20240203T230000
DTEND;TZID=Europe/Berlin:20240203T230000
DTSTAMP:20260423T121602
CREATED:20240119T101506Z
LAST-MODIFIED:20240203T153518Z
UID:246-1707001200-1707001200@oberdeck.events
SUMMARY:LA JUNGLA
DESCRIPTION:Wir laden Euch zur nächsten großen LA JUNGLA Party bei uns im ODC-Oberdeck ein! \n\nEuch erwarten feinste Latinomusik\, fette Reggaeton\, AfroBeats\, Hip Hop\, Salsa\, Bachata und noch vieles mehr\, was einfach nur Urlaubsglücksgefühle in diesem Winter beschert.Musik ist das Herzstück von LA JUNGLA\, deshalb haben wir – original aus Venezuela – DJ Alex eingeladen\, um euch in diesen kalten Tagen ordentlich einzuheizen.An der Bar bekommt ihr grandiose tropische und klassische Drinks und dann wird es die sommerlichste Nacht im ganzen Winter!Freut euch auf LA JUNGLA! \n \nAbendkasse  12€VVK  10€ Studierende erhalten  4€  Rabatt \nVVK über oberdeck@fritzculinar.de
URL:https://oberdeck.events/event/la-jungla/
LOCATION:ODC-Oberdeck\, Walkgraben 13\, Chemnitz
CATEGORIES:Party
ATTACH;FMTTYPE=image/jpeg:https://oberdeck.events/wp-content/uploads/2024/01/WhatsApp-Image-2024-01-18-at-22.43.02-e1705659052589.jpeg
ORGANIZER;CN="ODC-Oberdeck":MAILTO:oberdeck@fritzculinar.de
END:VEVENT
END:VCALENDAR