BEGIN:VCALENDAR
VERSION:2.0
PRODID:-//Oberdeck Chemnitz - ECPv6.15.20//NONSGML v1.0//EN
CALSCALE:GREGORIAN
METHOD:PUBLISH
X-WR-CALNAME:Oberdeck Chemnitz
X-ORIGINAL-URL:https://oberdeck.events
X-WR-CALDESC:Veranstaltungen für Oberdeck Chemnitz
REFRESH-INTERVAL;VALUE=DURATION:PT1H
X-Robots-Tag:noindex
X-PUBLISHED-TTL:PT1H
BEGIN:VTIMEZONE
TZID:Europe/Berlin
BEGIN:DAYLIGHT
TZOFFSETFROM:+0100
TZOFFSETTO:+0200
TZNAME:CEST
DTSTART:20230326T010000
END:DAYLIGHT
BEGIN:STANDARD
TZOFFSETFROM:+0200
TZOFFSETTO:+0100
TZNAME:CET
DTSTART:20231029T010000
END:STANDARD
BEGIN:DAYLIGHT
TZOFFSETFROM:+0100
TZOFFSETTO:+0200
TZNAME:CEST
DTSTART:20240331T010000
END:DAYLIGHT
BEGIN:STANDARD
TZOFFSETFROM:+0200
TZOFFSETTO:+0100
TZNAME:CET
DTSTART:20241027T010000
END:STANDARD
BEGIN:DAYLIGHT
TZOFFSETFROM:+0100
TZOFFSETTO:+0200
TZNAME:CEST
DTSTART:20250330T010000
END:DAYLIGHT
BEGIN:STANDARD
TZOFFSETFROM:+0200
TZOFFSETTO:+0100
TZNAME:CET
DTSTART:20251026T010000
END:STANDARD
END:VTIMEZONE
BEGIN:VEVENT
DTSTART;TZID=Europe/Berlin:20240802T190000
DTEND;TZID=Europe/Berlin:20240802T190000
DTSTAMP:20260421T145119
CREATED:20240702T141546Z
LAST-MODIFIED:20240702T143303Z
UID:1011-1722625200-1722625200@oberdeck.events
SUMMARY:Freilichtkino : Die Nacht der Nordlichter
DESCRIPTION:Willkommen zurück im Freilichtkino im Tuffner Hof!\nAusgewählt\, liebevoll vorbereitet und etwas Besonderes! \nDrei benachbarte Unternehmen haben gemeinsam einen neuen Kulturort erschaffen: Im Hof der Tuffner Möbelgalerie entsteht seit 2019 jeden Sommer ein lauschiges Plätzchen\, ein Sommeridyll mit besonderem Flair und regelmäßigen Kulturveranstaltungen. Unterstützt durch die Macher des Kino Metropol finden auch diesen Sommer Kino- und Musikveranstaltungen unter freiem Himmel statt. \nFür das passende leibliche Wohl sorgen wir:  das Team vom ODC-Oberdeck und fritz culinar. \nMusik: The Ann’s \nFilm: Von Vätern und Müttern … \nMenü des Abends: Smörrebröd\, Farikal\, Skolebrod \nweitere Infos: http://www.freilichtkino-chemnitz.de/ \n(PS.: es gibt eine 100%ig trockene Schlechtwetter-Variante)
URL:https://oberdeck.events/event/freilichtkino-die-nacht-der-nordlichter/
LOCATION:Hof\, Am Walkgraben 13\, Chemnitz\, 09119
CATEGORIES:Freilichtkino
ATTACH;FMTTYPE=image/jpeg:https://oberdeck.events/wp-content/uploads/2024/07/Bildschirmfoto-2024-07-02-um-15.58.54-scaled.jpg
END:VEVENT
BEGIN:VEVENT
DTSTART;TZID=Europe/Berlin:20240728T190000
DTEND;TZID=Europe/Berlin:20240728T190000
DTSTAMP:20260421T145119
CREATED:20240702T140855Z
LAST-MODIFIED:20240702T141203Z
UID:1006-1722193200-1722193200@oberdeck.events
SUMMARY:Freilichtkino : Die 2. französische Nacht
DESCRIPTION:Willkommen zurück im Freilichtkino im Tuffner Hof!\nAusgewählt\, liebevoll vorbereitet und etwas Besonderes! \nDrei benachbarte Unternehmen haben gemeinsam einen neuen Kulturort erschaffen: Im Hof der Tuffner Möbelgalerie entsteht seit 2019 jeden Sommer ein lauschiges Plätzchen\, ein Sommeridyll mit besonderem Flair und regelmäßigen Kulturveranstaltungen. Unterstützt durch die Macher des Kino Metropol finden auch diesen Sommer Kino- und Musikveranstaltungen unter freiem Himmel statt. \nFür das passende leibliche Wohl sorgen wir:  das Team vom ODC-Oberdeck und fritz culinar. \nMusik: Judith Antkowiak \nFilm: Geliebte Köchin \nMenü des Abends: Croque monsieur\, Zwiebelkuchen\, Mousse au chocolat \nweitere Infos: http://www.freilichtkino-chemnitz.de/ \n(PS.: es gibt eine 100%ig trockene Schlechtwetter-Variante)
URL:https://oberdeck.events/event/freilichtkino-die-2-franzoesische-nacht/
LOCATION:Hof\, Am Walkgraben 13\, Chemnitz\, 09119
CATEGORIES:Freilichtkino
ATTACH;FMTTYPE=image/jpeg:https://oberdeck.events/wp-content/uploads/2024/07/Bildschirmfoto-2024-07-02-um-15.58.54-scaled.jpg
END:VEVENT
BEGIN:VEVENT
DTSTART;TZID=Europe/Berlin:20240727T190000
DTEND;TZID=Europe/Berlin:20240727T190000
DTSTAMP:20260421T145119
CREATED:20240702T140141Z
LAST-MODIFIED:20240702T141116Z
UID:997-1722106800-1722106800@oberdeck.events
SUMMARY:Freilichtkino : Die 1. französische Nacht
DESCRIPTION:Willkommen zurück im Freilichtkino im Tuffner Hof!\nAusgewählt\, liebevoll vorbereitet und etwas Besonderes! \nDrei benachbarte Unternehmen haben gemeinsam einen neuen Kulturort erschaffen: Im Hof der Tuffner Möbelgalerie entsteht seit 2019 jeden Sommer ein lauschiges Plätzchen\, ein Sommeridyll mit besonderem Flair und regelmäßigen Kulturveranstaltungen. Unterstützt durch die Macher des Kino Metropol finden auch diesen Sommer Kino- und Musikveranstaltungen unter freiem Himmel statt. \nFür das passende leibliche Wohl sorgen wir:  das Team vom ODC-Oberdeck und fritz culinar. \nMusik: Judith Antkowiak \nFilm: Das Nonnenrennen \nMenü des Abends: Croque monsieur\, Zwiebelkuchen\, Mousse au chocolat \nweitere Infos: http://www.freilichtkino-chemnitz.de/ \n(PS.: es gibt eine 100%ig trockene Schlechtwetter-Variante)
URL:https://oberdeck.events/event/freiluft-kino-die-1-franzoesische-nacht/
LOCATION:Hof\, Am Walkgraben 13\, Chemnitz\, 09119
CATEGORIES:Freilichtkino
ATTACH;FMTTYPE=image/jpeg:https://oberdeck.events/wp-content/uploads/2024/07/Bildschirmfoto-2024-07-02-um-15.58.54-scaled.jpg
END:VEVENT
BEGIN:VEVENT
DTSTART;VALUE=DATE:20240715
DTEND;VALUE=DATE:20240721
DTSTAMP:20260421T145119
CREATED:20240702T150037Z
LAST-MODIFIED:20240702T150128Z
UID:989-1721037600-1721469599@oberdeck.events
SUMMARY:S  O  M  M  E  R  P  A  U  S  E
DESCRIPTION:Diese Woche KEIN FEIERABEND !!!\nHeute Atmen wir mal durch\, genießen die freie Zeit & sammeln Kraft für die anstehende Zeit !\n\nBis Bald die ODC-Crew
URL:https://oberdeck.events/event/%f0%9f%8c%9e-s-o-m-m-e-r-p-a-u-s-e-%f0%9f%8c%9e/
LOCATION:ODC-Oberdeck\, Walkgraben 13\, Chemnitz
CATEGORIES:FeierAbend
ATTACH;FMTTYPE=image/jpeg:https://oberdeck.events/wp-content/uploads/2024/01/1.1a-edited.jpg
ORGANIZER;CN="ODC-Oberdeck":MAILTO:oberdeck@fritzculinar.de
END:VEVENT
BEGIN:VEVENT
DTSTART;TZID=Europe/Berlin:20240711T183000
DTEND;TZID=Europe/Berlin:20240711T183000
DTSTAMP:20260421T145119
CREATED:20240528T114925Z
LAST-MODIFIED:20240613T104127Z
UID:969-1720722600-1720722600@oberdeck.events
SUMMARY:*** SPECIAL *** Quiz-FeierAbend
DESCRIPTION:Der Quiz-FeierAbend findet schon zum 17. mal statt!!\nDer Name ist immer noch Programm: Quizfragen am FeierAbend lösen – zu Film\, Musik\, aktuellen Anlässen\, Kulinarik und vielem mehr! In konkurrierenden Teams stellen sich die Teilnehmenden den Fragen unserer QuizMiss. Für jede richtige Antwort gibt es einen Punkt und am Ende gewinnt das Team mit den meisten Punkten! \nODC-Oberdeck Öffnung: 18:30 Uhr\nQuiz Start: 19:00 Uhr\nAnmeldung für einen sicheren Platz mit eurem Team und leckere Drinks\,\nper FB Nachricht oder per Mail an odc-booking[@]fritzculinar.de \nWir freuen uns auf euch!
URL:https://oberdeck.events/event/special-quiz-feierabend-7/
LOCATION:ODC-Oberdeck\, Walkgraben 13\, Chemnitz
CATEGORIES:Quiz
ATTACH;FMTTYPE=image/jpeg:https://oberdeck.events/wp-content/uploads/2024/04/Quiz-WebPoster.jpg
ORGANIZER;CN="ODC-Oberdeck":MAILTO:oberdeck@fritzculinar.de
END:VEVENT
BEGIN:VEVENT
DTSTART;TZID=Europe/Berlin:20240706T220000
DTEND;TZID=Europe/Berlin:20240706T220000
DTSTAMP:20260421T145119
CREATED:20240619T112945Z
LAST-MODIFIED:20240702T144221Z
UID:987-1720303200-1720303200@oberdeck.events
SUMMARY:LA JUNGLA - welcome summer
DESCRIPTION:Herzliche Einladung zur Sommeredition von LA JUNGLA 🦩 \nChemnitz nos vemos este 06 de julio una vez mas con LA JUNLGA esta vez dándole la bienvenido al verano\, para los fans del merengue y la salsa tendremos a dj jesus\, los espero en Oberdecks. \nDJ Jesus @mjesus.87\nDJ Alex @alex_19sm \nInicio: 22:00\nEntrada: 12\nEntrada previa: 10\n¡Hay un descuento de 4€ para estudiantes! \nDJ ALEX [Reggaeton – Dembow – Urbano latino – Afrobeats] \nDJ JESUS [Salsa – Bachata – Merengue – Reparto]
URL:https://oberdeck.events/event/la-jungla-welcome-summer/
LOCATION:ODC-Oberdeck\, Walkgraben 13\, Chemnitz
CATEGORIES:Party
ATTACH;FMTTYPE=image/jpeg:https://oberdeck.events/wp-content/uploads/2024/06/WhatsApp-Image-2024-06-19-at-13.51.31-e1719931057966.jpeg
ORGANIZER;CN="ODC-Oberdeck":MAILTO:oberdeck@fritzculinar.de
END:VEVENT
BEGIN:VEVENT
DTSTART;TZID=Europe/Berlin:20240628T200000
DTEND;TZID=Europe/Berlin:20240628T200000
DTSTAMP:20260421T145119
CREATED:20240411T090301Z
LAST-MODIFIED:20240627T191657Z
UID:940-1719604800-1719604800@oberdeck.events
SUMMARY:Depeche Mode Summerlounge live
DESCRIPTION:Nach ausverkauften Konzerten in Leipzig und Dresden kommt das erfolgreiche Konzept „DEPECHE MODE ON PIANO- Summerlounge“ jetzt nach Chemnitz!\nGenießt den Sound von Depeche Mode in einem ungewöhnlichen Gewand: beste Unterhaltung\, entspanntes Ambiente und feinste Drinks in der Rooftop-Bar in Chemnitz. Genießt den Abend im ODC-Oberdeck und verwöhnt eure Ohren!Echte Fans können hinterher noch zu den besten DM-Songs tanzen! \n>>> Full concert live on Piano played by THILO <<< \nBeginn 21:00 Uhr \nEinlass ab 20:00 Uhr \nTickets auf EVENTIM: DM Summerlounge ODC-Oberdeck
URL:https://oberdeck.events/event/depeche-mode-sommerlounge/
LOCATION:ODC-Oberdeck\, Walkgraben 13\, Chemnitz
CATEGORIES:Konzert
ATTACH;FMTTYPE=image/jpeg:https://oberdeck.events/wp-content/uploads/2024/04/DM-Socialmedia-QUER.jpg
ORGANIZER;CN="ODC-Oberdeck":MAILTO:oberdeck@fritzculinar.de
END:VEVENT
BEGIN:VEVENT
DTSTART;TZID=Europe/Berlin:20240626T183000
DTEND;TZID=Europe/Berlin:20240626T183000
DTSTAMP:20260421T145119
CREATED:20240516T082903Z
LAST-MODIFIED:20240619T112222Z
UID:966-1719426600-1719426600@oberdeck.events
SUMMARY:*** SPECIAL *** Quiz-FeierAbend
DESCRIPTION:Zusatztermin\, weil ihr es Euch gewünscht habt!  \nAchtung: diesmal wird an einem Mittwoch gequizzt! \nDer Quiz-FeierAbend findet schon zum 16. mal statt!!\nDer Name ist immer noch Programm: Quizfragen am FeierAbend lösen – zu Film\, Musik\, aktuellen Anlässen\, Kulinarik und vielem mehr! In konkurrierenden Teams stellen sich die Teilnehmenden den Fragen unserer QuizMiss. Für jede richtige Antwort gibt es einen Punkt und am Ende gewinnt das Team mit den meisten Punkten! \nODC-Oberdeck Öffnung: 18:30 Uhr\nQuiz Start: 19:00 Uhr\nAnmeldung für einen sicheren Platz mit eurem Team und für leckere Drinks\,\nper FB Nachricht\, Insta DM oder per Mail an odc-booking[@]fritzculinar.de  \nWir freuen uns auf euch!
URL:https://oberdeck.events/event/special-quiz-feierabend-6/
LOCATION:ODC-Oberdeck\, Walkgraben 13\, Chemnitz
CATEGORIES:Quiz
ATTACH;FMTTYPE=image/jpeg:https://oberdeck.events/wp-content/uploads/2024/04/Quiz-WebPoster.jpg
ORGANIZER;CN="ODC-Oberdeck":MAILTO:oberdeck@fritzculinar.de
END:VEVENT
BEGIN:VEVENT
DTSTART;TZID=Europe/Berlin:20240510T200000
DTEND;TZID=Europe/Berlin:20240510T200000
DTSTAMP:20260421T145119
CREATED:20240227T104559Z
LAST-MODIFIED:20240228T122511Z
UID:873-1715371200-1715371200@oberdeck.events
SUMMARY:LIVE KONZERT: RAY ALLEN - Rock'n'Roll is here to stay !
DESCRIPTION:Wir feiern das Leben und die Freude die es uns schenkt\, wir vergessen den Alltag und erleben ein Revival vergangener Zeiten:\nein Abend mit RAY ALLEN im ODC heißt abrocken über den Dächern der Stadt !\nRockabella’s und Rockabilly’s\, es wird Zeit die Petticoats und die Creepers aus dem Schrank zu holen\, nochmal die Frisur checken und ab gehts\, denn „Rock’n’Roll is here to stay“ !\nRAY ALLEN und seine Band spielen das\, was sie selbst als echten Rock’n’Roll bezeichnen! RAY ALLEN bringt den rockigen „late 50’s” und den poppigen „early 60’s” Sound authentisch und ohne Kompromisse auf die nationalen und internationalen Bühnen der Neuzeit zurück. Das Programm der ernannten „Teen-Age-Rocker“\nist eine Mischung aus Rock’n’Roll\, Rockabilly\, Popular und Instrumental Musik. Die Songauswahl spannt einen Bogen von ganz wilden Rockern\, über knackige Stroller hin zu coolem Jive. Neben eigenen Songs gehören auch Titel namenhafter Künstler zum weitreichenden Repertoire.\nDie Band hat sich rund um Frontmann und Bandleader Mathias Arnold a.k.a. RAY ALLEN in den vergangenen Jahren stetig weiterentwickelt. Dabei fließen die gesammelten Erfahrungen und Inspirationen aus weiteren Projekten in die heutige Performance ein.\n\nEinlass: 19 Uhr\n\nTICKETS 18 € erhältlich unter: Eventbrite – RAY ALLEN BAND \n\nBesetzung: Ray Allen a.k.a. Mathias Arnold – Gesang\, Lead Gitarre\nGerdi a.k.a. Gerd Vorwerk – Kontrabass\nBully Twist a.k.a. Sylvio Lau – Gesang\, Schlagzeug\nJan J. Dillard a.k.a. Martin Wauer – Gesang\, Piano
URL:https://oberdeck.events/event/ray-allen/
LOCATION:ODC-Oberdeck\, Walkgraben 13\, Chemnitz
CATEGORIES:Konzert
ATTACH;FMTTYPE=image/jpeg:https://oberdeck.events/wp-content/uploads/2024/02/RAY-ALLEN.jpeg
ORGANIZER;CN="ODC-Oberdeck":MAILTO:oberdeck@fritzculinar.de
END:VEVENT
BEGIN:VEVENT
DTSTART;TZID=Europe/Berlin:20240411T220000
DTEND;TZID=Europe/Berlin:20240412T040000
DTSTAMP:20260421T145119
CREATED:20240228T113920Z
LAST-MODIFIED:20240228T114359Z
UID:895-1712872800-1712894400@oberdeck.events
SUMMARY:Semester Opening Party
DESCRIPTION:SEMESTER OPENING PARTY \nVon Fachschaftsrat MEDiC \nmit feinstem Sound von KARMAXUTRA \nTickets unter Eventbrite
URL:https://oberdeck.events/event/semseter-opening-party/
LOCATION:ODC-Oberdeck\, Walkgraben 13\, Chemnitz
CATEGORIES:Party
ATTACH;FMTTYPE=image/jpeg:https://oberdeck.events/wp-content/uploads/2024/02/https-cdn.evbuc_.com-images-683913569-1985631338773-1-original.jpg
END:VEVENT
BEGIN:VEVENT
DTSTART;TZID=Europe/Berlin:20240306T180000
DTEND;TZID=Europe/Berlin:20240306T193000
DTSTAMP:20260421T145119
CREATED:20240223T123920Z
LAST-MODIFIED:20240223T124003Z
UID:867-1709748000-1709753400@oberdeck.events
SUMMARY:Freie Presse Podiumsdiskussion : "Wie gut kann Chemnitz Kulturhauptstadt?"
DESCRIPTION:Noch elf Monate\, dann feiert sich Chemnitz als Kulturhauptstadt Europas. 2025 wird Begegnung und Bewegung in die Stadt bringen. Ein Jahr lang steht Chemnitz ganz besonders im Fokus der deutschen und europäischen Öffentlichkeit. Ein Jahr lang werden viel\, viel mehr Gäste den Weg in die Stadt finden als üblich. Ein Jahr lang haben die Menschen hier die Chance\, aus der Kulturhauptstadt 2025 für sich etwas Bleibendes zu machen. \nIst Chemnitz fit dafür? Ziehen alle an einem Strang? Was kann und muss der Oberbürgermeister noch tun? Wie können sich die Chemnitzerinnen und Chemnitzer einbringen? Darüber sprechen „Freie Presse“-Chefredakteur Torsten Kleditzsch und Lokalchefin Susanne Kiwitter. Im Rahmen der Veranstaltung wird es für Teilnehmerinnen und Teilnehmer die Möglichkeit geben\, mit dem Oberbürgermeister direkt zu diskutieren. \nAufgrund der begrenzten Platzkapazität bitten wir um vorherige Anmeldung über den folgenden Link oder telefonisch unter +49 371 278 550117.
URL:https://oberdeck.events/event/podiumsdiskussion-kulturcity/
LOCATION:ODC-Oberdeck\, Walkgraben 13\, Chemnitz
CATEGORIES:Podiumsdiskussion
ATTACH;FMTTYPE=image/webp:https://oberdeck.events/wp-content/uploads/2024/02/FP-Podiumsdiskussion-6324.webp
ORGANIZER;CN="ODC-Oberdeck":MAILTO:oberdeck@fritzculinar.de
END:VEVENT
END:VCALENDAR