BEGIN:VCALENDAR
VERSION:2.0
PRODID:-//Oberdeck Chemnitz - ECPv6.15.20//NONSGML v1.0//EN
CALSCALE:GREGORIAN
METHOD:PUBLISH
X-ORIGINAL-URL:https://oberdeck.events
X-WR-CALDESC:Veranstaltungen für Oberdeck Chemnitz
REFRESH-INTERVAL;VALUE=DURATION:PT1H
X-Robots-Tag:noindex
X-PUBLISHED-TTL:PT1H
BEGIN:VTIMEZONE
TZID:Europe/Berlin
BEGIN:DAYLIGHT
TZOFFSETFROM:+0100
TZOFFSETTO:+0200
TZNAME:CEST
DTSTART:20230326T010000
END:DAYLIGHT
BEGIN:STANDARD
TZOFFSETFROM:+0200
TZOFFSETTO:+0100
TZNAME:CET
DTSTART:20231029T010000
END:STANDARD
BEGIN:DAYLIGHT
TZOFFSETFROM:+0100
TZOFFSETTO:+0200
TZNAME:CEST
DTSTART:20240331T010000
END:DAYLIGHT
BEGIN:STANDARD
TZOFFSETFROM:+0200
TZOFFSETTO:+0100
TZNAME:CET
DTSTART:20241027T010000
END:STANDARD
BEGIN:DAYLIGHT
TZOFFSETFROM:+0100
TZOFFSETTO:+0200
TZNAME:CEST
DTSTART:20250330T010000
END:DAYLIGHT
BEGIN:STANDARD
TZOFFSETFROM:+0200
TZOFFSETTO:+0100
TZNAME:CET
DTSTART:20251026T010000
END:STANDARD
END:VTIMEZONE
BEGIN:VEVENT
DTSTART;TZID=Europe/Berlin:20240510T200000
DTEND;TZID=Europe/Berlin:20240510T200000
DTSTAMP:20260423T003945
CREATED:20240227T104559Z
LAST-MODIFIED:20240228T122511Z
UID:873-1715371200-1715371200@oberdeck.events
SUMMARY:LIVE KONZERT: RAY ALLEN - Rock'n'Roll is here to stay !
DESCRIPTION:Wir feiern das Leben und die Freude die es uns schenkt\, wir vergessen den Alltag und erleben ein Revival vergangener Zeiten:\nein Abend mit RAY ALLEN im ODC heißt abrocken über den Dächern der Stadt !\nRockabella’s und Rockabilly’s\, es wird Zeit die Petticoats und die Creepers aus dem Schrank zu holen\, nochmal die Frisur checken und ab gehts\, denn „Rock’n’Roll is here to stay“ !\nRAY ALLEN und seine Band spielen das\, was sie selbst als echten Rock’n’Roll bezeichnen! RAY ALLEN bringt den rockigen „late 50’s” und den poppigen „early 60’s” Sound authentisch und ohne Kompromisse auf die nationalen und internationalen Bühnen der Neuzeit zurück. Das Programm der ernannten „Teen-Age-Rocker“\nist eine Mischung aus Rock’n’Roll\, Rockabilly\, Popular und Instrumental Musik. Die Songauswahl spannt einen Bogen von ganz wilden Rockern\, über knackige Stroller hin zu coolem Jive. Neben eigenen Songs gehören auch Titel namenhafter Künstler zum weitreichenden Repertoire.\nDie Band hat sich rund um Frontmann und Bandleader Mathias Arnold a.k.a. RAY ALLEN in den vergangenen Jahren stetig weiterentwickelt. Dabei fließen die gesammelten Erfahrungen und Inspirationen aus weiteren Projekten in die heutige Performance ein.\n\nEinlass: 19 Uhr\n\nTICKETS 18 € erhältlich unter: Eventbrite – RAY ALLEN BAND \n\nBesetzung: Ray Allen a.k.a. Mathias Arnold – Gesang\, Lead Gitarre\nGerdi a.k.a. Gerd Vorwerk – Kontrabass\nBully Twist a.k.a. Sylvio Lau – Gesang\, Schlagzeug\nJan J. Dillard a.k.a. Martin Wauer – Gesang\, Piano
URL:https://oberdeck.events/event/ray-allen/
LOCATION:ODC-Oberdeck\, Walkgraben 13\, Chemnitz
CATEGORIES:Konzert
ATTACH;FMTTYPE=image/jpeg:https://oberdeck.events/wp-content/uploads/2024/02/RAY-ALLEN.jpeg
ORGANIZER;CN="ODC-Oberdeck":MAILTO:oberdeck@fritzculinar.de
END:VEVENT
END:VCALENDAR