BEGIN:VCALENDAR
VERSION:2.0
PRODID:-//Oberdeck Chemnitz - ECPv6.15.20//NONSGML v1.0//EN
CALSCALE:GREGORIAN
METHOD:PUBLISH
X-WR-CALNAME:Oberdeck Chemnitz
X-ORIGINAL-URL:https://oberdeck.events
X-WR-CALDESC:Veranstaltungen für Oberdeck Chemnitz
REFRESH-INTERVAL;VALUE=DURATION:PT1H
X-Robots-Tag:noindex
X-PUBLISHED-TTL:PT1H
BEGIN:VTIMEZONE
TZID:Europe/Berlin
BEGIN:DAYLIGHT
TZOFFSETFROM:+0100
TZOFFSETTO:+0200
TZNAME:CEST
DTSTART:20230326T010000
END:DAYLIGHT
BEGIN:STANDARD
TZOFFSETFROM:+0200
TZOFFSETTO:+0100
TZNAME:CET
DTSTART:20231029T010000
END:STANDARD
BEGIN:DAYLIGHT
TZOFFSETFROM:+0100
TZOFFSETTO:+0200
TZNAME:CEST
DTSTART:20240331T010000
END:DAYLIGHT
BEGIN:STANDARD
TZOFFSETFROM:+0200
TZOFFSETTO:+0100
TZNAME:CET
DTSTART:20241027T010000
END:STANDARD
BEGIN:DAYLIGHT
TZOFFSETFROM:+0100
TZOFFSETTO:+0200
TZNAME:CEST
DTSTART:20250330T010000
END:DAYLIGHT
BEGIN:STANDARD
TZOFFSETFROM:+0200
TZOFFSETTO:+0100
TZNAME:CET
DTSTART:20251026T010000
END:STANDARD
END:VTIMEZONE
BEGIN:VEVENT
DTSTART;TZID=Europe/Berlin:20240411T220000
DTEND;TZID=Europe/Berlin:20240412T040000
DTSTAMP:20260423T020216
CREATED:20240228T113920Z
LAST-MODIFIED:20240228T114359Z
UID:895-1712872800-1712894400@oberdeck.events
SUMMARY:Semester Opening Party
DESCRIPTION:SEMESTER OPENING PARTY \nVon Fachschaftsrat MEDiC \nmit feinstem Sound von KARMAXUTRA \nTickets unter Eventbrite
URL:https://oberdeck.events/event/semseter-opening-party/
LOCATION:ODC-Oberdeck\, Walkgraben 13\, Chemnitz
CATEGORIES:Party
ATTACH;FMTTYPE=image/jpeg:https://oberdeck.events/wp-content/uploads/2024/02/https-cdn.evbuc_.com-images-683913569-1985631338773-1-original.jpg
END:VEVENT
END:VCALENDAR