BEGIN:VCALENDAR
VERSION:2.0
PRODID:-//Oberdeck Chemnitz - ECPv6.15.20//NONSGML v1.0//EN
CALSCALE:GREGORIAN
METHOD:PUBLISH
X-WR-CALNAME:Oberdeck Chemnitz
X-ORIGINAL-URL:https://oberdeck.events
X-WR-CALDESC:Veranstaltungen für Oberdeck Chemnitz
REFRESH-INTERVAL;VALUE=DURATION:PT1H
X-Robots-Tag:noindex
X-PUBLISHED-TTL:PT1H
BEGIN:VTIMEZONE
TZID:Europe/Berlin
BEGIN:DAYLIGHT
TZOFFSETFROM:+0100
TZOFFSETTO:+0200
TZNAME:CEST
DTSTART:20230326T010000
END:DAYLIGHT
BEGIN:STANDARD
TZOFFSETFROM:+0200
TZOFFSETTO:+0100
TZNAME:CET
DTSTART:20231029T010000
END:STANDARD
BEGIN:DAYLIGHT
TZOFFSETFROM:+0100
TZOFFSETTO:+0200
TZNAME:CEST
DTSTART:20240331T010000
END:DAYLIGHT
BEGIN:STANDARD
TZOFFSETFROM:+0200
TZOFFSETTO:+0100
TZNAME:CET
DTSTART:20241027T010000
END:STANDARD
BEGIN:DAYLIGHT
TZOFFSETFROM:+0100
TZOFFSETTO:+0200
TZNAME:CEST
DTSTART:20250330T010000
END:DAYLIGHT
BEGIN:STANDARD
TZOFFSETFROM:+0200
TZOFFSETTO:+0100
TZNAME:CET
DTSTART:20251026T010000
END:STANDARD
END:VTIMEZONE
BEGIN:VEVENT
DTSTART;TZID=Europe/Berlin:20241004T220000
DTEND;TZID=Europe/Berlin:20241004T220000
DTSTAMP:20260422T033435
CREATED:20240918T100552Z
LAST-MODIFIED:20240918T101054Z
UID:1119-1728079200-1728079200@oberdeck.events
SUMMARY:LA JUNGLA
DESCRIPTION:CHEMNITZ\, seid ihr bereit für den Dschungel? \n\nWir sind zurück!! Wir haben offiziell ein Datum\, wir sehen uns am 04.10. im ODC-Oberdeck\, mit Chemnitz bester Latin-Party\, neuen Überraschungsgästen\, DJ’s und der besten Energie für euch ♥️ \nStart: 22:00\nEintritt: 12 €\nUnd für alle Studis 4€ Rabatt! \n\n——— \nCHEMNITZ están listos para La Jungla??\nVolvimos!! oficialmente tenemos fecha\, nos vemos este 04.10. en Oberdecks\, con la mejor fiesta latina de Chemnitz\, nuevamente invitados sorpresas\, DJs\, y la mejor de las energías para ustedes ♥️ \n\n  \nInicio: 22:00\nEntrada: 12 €\n¡Hay un descuento de 4€ para estudiantes! \n——— \nWarm Up: DJ LULI \nLIVE IN CONCERT: DANN LEIN \nDJ Jesus @mjesus.87\nDJ Alex @alex_19sm
URL:https://oberdeck.events/event/la-jungla-2/
LOCATION:ODC-Oberdeck\, Walkgraben 13\, Chemnitz
CATEGORIES:Party
ATTACH;FMTTYPE=image/jpeg:https://oberdeck.events/wp-content/uploads/2024/09/7754008a-293f-448b-8f11-695c06f824d6.jpg
ORGANIZER;CN="ODC-Oberdeck":MAILTO:oberdeck@fritzculinar.de
END:VEVENT
END:VCALENDAR