BEGIN:VCALENDAR
VERSION:2.0
PRODID:-//Oberdeck Chemnitz - ECPv6.15.20//NONSGML v1.0//EN
CALSCALE:GREGORIAN
METHOD:PUBLISH
X-ORIGINAL-URL:https://oberdeck.events
X-WR-CALDESC:Veranstaltungen für Oberdeck Chemnitz
REFRESH-INTERVAL;VALUE=DURATION:PT1H
X-Robots-Tag:noindex
X-PUBLISHED-TTL:PT1H
BEGIN:VTIMEZONE
TZID:Europe/Berlin
BEGIN:DAYLIGHT
TZOFFSETFROM:+0100
TZOFFSETTO:+0200
TZNAME:CEST
DTSTART:20250330T010000
END:DAYLIGHT
BEGIN:STANDARD
TZOFFSETFROM:+0200
TZOFFSETTO:+0100
TZNAME:CET
DTSTART:20251026T010000
END:STANDARD
BEGIN:DAYLIGHT
TZOFFSETFROM:+0100
TZOFFSETTO:+0200
TZNAME:CEST
DTSTART:20260329T010000
END:DAYLIGHT
BEGIN:STANDARD
TZOFFSETFROM:+0200
TZOFFSETTO:+0100
TZNAME:CET
DTSTART:20261025T010000
END:STANDARD
BEGIN:DAYLIGHT
TZOFFSETFROM:+0100
TZOFFSETTO:+0200
TZNAME:CEST
DTSTART:20270328T010000
END:DAYLIGHT
BEGIN:STANDARD
TZOFFSETFROM:+0200
TZOFFSETTO:+0100
TZNAME:CET
DTSTART:20271031T010000
END:STANDARD
END:VTIMEZONE
BEGIN:VEVENT
DTSTART;TZID=Europe/Berlin:20260131T220000
DTEND;TZID=Europe/Berlin:20260131T220000
DTSTAMP:20260421T142844
CREATED:20251203T123245Z
LAST-MODIFIED:20260109T161259Z
UID:1703-1769896800-1769896800@oberdeck.events
SUMMARY:90's Flashback
DESCRIPTION:Das Beste aus den 90ern gibts hier auf die Ohren! \nStart 22:00 Uhr \n…
URL:https://oberdeck.events/event/back-to-the-90s/
LOCATION:ODC-Oberdeck\, Walkgraben 13\, Chemnitz
CATEGORIES:Party
ATTACH;FMTTYPE=image/jpeg:https://oberdeck.events/wp-content/uploads/2025/12/90er-Jan26-1.jpg
ORGANIZER;CN="ODC":MAILTO:odc-booking@fritzculinar.de
END:VEVENT
END:VCALENDAR